BEGIN:VCALENDAR
VERSION:2.0
PRODID:-//wp-events-plugin.com//7.2.3.1//EN
TZID:America/New_York
X-WR-TIMEZONE:America/New_York
BEGIN:VEVENT
UID:1085@ninepincider.com
DTSTART;TZID=America/New_York:20260521T180000
DTEND;TZID=America/New_York:20260521T200000
DTSTAMP:20260407T204343Z
URL:https://www.ninepincider.com/events/swap-night-plants/
SUMMARY:Swap Night: Plants
DESCRIPTION:Calling all plant people. Bring a cutting\, a plant you’ve ou
 tgrown\, or just yourself and settle in with others who know their way aro
 und a good leaf. Swap plants\, trade green thumb tips\, and see what every
 one’s been growing. With the purchase of a cider\, you’re welcome to s
 wap and hang. Non-alcoholic options available.
ATTACH;FMTTYPE=image/jpeg:https://www.ninepincider.com/wp-content/uploads/
 2026/04/NinePin-SwapNight-Plants-Event.png
LOCATION:Nine Pin Cider\, 929 Broadway\, Albany\, NY\, 12207\, United State
 s
X-APPLE-STRUCTURED-LOCATION;VALUE=URI;X-ADDRESS=929 Broadway\, Albany\, NY\
 , 12207\, United States;X-APPLE-RADIUS=100;X-TITLE=Nine Pin Cider:geo:0,0
END:VEVENT
BEGIN:VTIMEZONE
TZID:America/New_York
X-LIC-LOCATION:America/New_York
BEGIN:DAYLIGHT
DTSTART:20260308T030000
TZOFFSETFROM:-0500
TZOFFSETTO:-0400
TZNAME:EDT
END:DAYLIGHT
END:VTIMEZONE
END:VCALENDAR