BEGIN:VCALENDAR
VERSION:2.0
PRODID:-//wp-events-plugin.com//7.2.3.1//EN
TZID:America/New_York
X-WR-TIMEZONE:America/New_York
BEGIN:VEVENT
UID:1089@ninepincider.com
DTSTART;TZID=America/New_York:20260526T180000
DTEND;TZID=America/New_York:20260526T200000
DTSTAMP:20260416T194509Z
URL:https://www.ninepincider.com/events/star-wars/
SUMMARY:Themed Trivia: Star Wars
DESCRIPTION:We’re keeping the May the 4th energy going all month long wit
 h a Star Wars–themed Trivia night. From Jedi and Sith to starships\, pla
 nets\, and everything in between\, expect a mix of questions for casual fa
 ns and superfans alike. Gather your crew\, put your knowledge to the test\
 , and compete for cider prizes. Part of our monthly Themed Trivia nights o
 n the fourth Tuesday of every month. Sign-ups start at 6:00 pm\, trivia be
 gins at 6:30 pm. Free to play.
ATTACH;FMTTYPE=image/jpeg:https://www.ninepincider.com/wp-content/uploads/
 2026/04/NinePin-ThemedTrivia-StarWars-Event.png
LOCATION:Nine Pin Cider\, 929 Broadway\, Albany\, NY\, 12207\, United State
 s
X-APPLE-STRUCTURED-LOCATION;VALUE=URI;X-ADDRESS=929 Broadway\, Albany\, NY\
 , 12207\, United States;X-APPLE-RADIUS=100;X-TITLE=Nine Pin Cider:geo:0,0
END:VEVENT
BEGIN:VTIMEZONE
TZID:America/New_York
X-LIC-LOCATION:America/New_York
BEGIN:DAYLIGHT
DTSTART:20260308T030000
TZOFFSETFROM:-0500
TZOFFSETTO:-0400
TZNAME:EDT
END:DAYLIGHT
END:VTIMEZONE
END:VCALENDAR