BEGIN:VCALENDAR
VERSION:2.0
PRODID:-//wp-events-plugin.com//7.2.3.1//EN
TZID:America/New_York
X-WR-TIMEZONE:America/New_York
BEGIN:VEVENT
UID:497@ninepincider.com
DTSTART;TZID=America/New_York:20240420T130000
DTEND;TZID=America/New_York:20240420T150000
DTSTAMP:20240418T131236Z
URL:https://www.ninepincider.com/events/plant-puff-bonsai-bar/
SUMMARY:Plant + Puff: Bonsai Bar
DESCRIPTION:SOLD OUT\n\nWe are partnering with the Bonsai Bar for a Plant +
  Puff on 4/20 from 1:00 - 3:00 pm! Learn the fundamental skills and techni
 ques behind the art of bonsai while enjoying a day out with friends! Our t
 eachers will introduce core concepts and guide your experience as you pot\
 , prune\, and design your very own bonsai tree.\n\nIn addition to bringing
  home a beautiful bonsai\, you can also partake in Hopped Cider Night wher
 e we celebrate all things green with four specialty hopped ciders on draft
 .\n\nSpots are limited so be sure to grab your tickets!\n\n*The event is 4
 /20 friendly and we will have outdoor space for those wishing to celebrate
 .
ATTACH;FMTTYPE=image/jpeg:https://www.ninepincider.com/wp-content/uploads/
 2024/04/plantPuff_fb.jpg
LOCATION:Nine Pin Cider\, 929 Broadway\, Albany\, NY\, 12207\, United State
 s
X-APPLE-STRUCTURED-LOCATION;VALUE=URI;X-ADDRESS=929 Broadway\, Albany\, NY\
 , 12207\, United States;X-APPLE-RADIUS=100;X-TITLE=Nine Pin Cider:geo:0,0
END:VEVENT
BEGIN:VTIMEZONE
TZID:America/New_York
X-LIC-LOCATION:America/New_York
BEGIN:DAYLIGHT
DTSTART:20240310T030000
TZOFFSETFROM:-0500
TZOFFSETTO:-0400
TZNAME:EDT
END:DAYLIGHT
END:VTIMEZONE
END:VCALENDAR