BEGIN:VCALENDAR
VERSION:2.0
PRODID:-//wp-events-plugin.com//7.2.3.1//EN
TZID:America/New_York
X-WR-TIMEZONE:America/New_York
BEGIN:VEVENT
UID:496@ninepincider.com
DTSTART;TZID=America/New_York:20240420T110000
DTEND;TZID=America/New_York:20240420T230000
DTSTAMP:20240418T130336Z
URL:https://www.ninepincider.com/events/hopped-cider-night/
SUMMARY:Hopped Cider Night
DESCRIPTION:Celebrate all things green on Saturday\, April 20 with a Hopped
  Cider Night! We will be tapping four different small batch hopped ciders 
 for you to try. Get a 12 oz pour of one or try them all in a 4 flight tast
 ing.\n\nHopped Cider Lineup:\n\nTBA
ATTACH;FMTTYPE=image/jpeg:https://www.ninepincider.com/wp-content/uploads/
 2024/04/hopped-cider-night.jpg
LOCATION:Nine Pin Cider\, 929 Broadway\, Albany\, NY\, 12207\, United State
 s
X-APPLE-STRUCTURED-LOCATION;VALUE=URI;X-ADDRESS=929 Broadway\, Albany\, NY\
 , 12207\, United States;X-APPLE-RADIUS=100;X-TITLE=Nine Pin Cider:geo:0,0
END:VEVENT
BEGIN:VTIMEZONE
TZID:America/New_York
X-LIC-LOCATION:America/New_York
BEGIN:DAYLIGHT
DTSTART:20240310T030000
TZOFFSETFROM:-0500
TZOFFSETTO:-0400
TZNAME:EDT
END:DAYLIGHT
END:VTIMEZONE
END:VCALENDAR