BEGIN:VCALENDAR
VERSION:2.0
PRODID:-//wp-events-plugin.com//7.2.3.1//EN
TZID:America/New_York
X-WR-TIMEZONE:America/New_York
BEGIN:VEVENT
UID:1093@ninepincider.com
DTSTART;TZID=America/New_York:20260529T170000
DTEND;TZID=America/New_York:20260529T210000
DTSTAMP:20260416T223338Z
URL:https://www.ninepincider.com/events/food-pop-up-wood-fired-wagon/
SUMMARY:Food Pop-up: Wood-Fired Wagon
DESCRIPTION:Wood Fired Wagon is rolling in with live fire and serious flavo
 r. Led by Chef Will Brown\, this wood-fired food truck has built a followi
 ng across the Capital Region and beyond for its handcrafted pizzas\, seaso
 nal salads\, baked pastas\, and old-fashioned desserts. Rooted in local in
 gredients\, every dish brings out bold\, natural flavor. It is the kind of
  food that pairs effortlessly with a well-made cider. Join us for a night 
 built around good food\, good cider and good company.
ATTACH;FMTTYPE=image/jpeg:https://www.ninepincider.com/wp-content/uploads/
 2026/04/NP-FoodPopup-WoodFiredWagon-Event.png
LOCATION:Nine Pin Cider\, 929 Broadway\, Albany\, NY\, 12207\, United State
 s
X-APPLE-STRUCTURED-LOCATION;VALUE=URI;X-ADDRESS=929 Broadway\, Albany\, NY\
 , 12207\, United States;X-APPLE-RADIUS=100;X-TITLE=Nine Pin Cider:geo:0,0
END:VEVENT
BEGIN:VTIMEZONE
TZID:America/New_York
X-LIC-LOCATION:America/New_York
BEGIN:DAYLIGHT
DTSTART:20260308T030000
TZOFFSETFROM:-0500
TZOFFSETTO:-0400
TZNAME:EDT
END:DAYLIGHT
END:VTIMEZONE
END:VCALENDAR