BEGIN:VCALENDAR
VERSION:2.0
PRODID:-//wp-events-plugin.com//7.2.3.1//EN
TZID:America/New_York
X-WR-TIMEZONE:America/New_York
BEGIN:VEVENT
UID:550@ninepincider.com
DTSTART;TZID=America/New_York:20240502T180000
DTEND;TZID=America/New_York:20240502T200000
DTSTAMP:20240418T132155Z
URL:https://www.ninepincider.com/events/craft-night-earring-workshop/
SUMMARY:Craft Night: Earring Workshop
DESCRIPTION:\n\nJoin us and Laiken Mae Handmade for a fun evening of creati
 ng your own earrings! Tickets are $30 and include a 12 oz cider and earrin
 g supplies.\n\n
ATTACH;FMTTYPE=image/jpeg:https://www.ninepincider.com/wp-content/uploads/
 2024/04/laiken-earrings-4.jpg
LOCATION:Nine Pin Cider\, 929 Broadway\, Albany\, NY\, 12207\, United State
 s
X-APPLE-STRUCTURED-LOCATION;VALUE=URI;X-ADDRESS=929 Broadway\, Albany\, NY\
 , 12207\, United States;X-APPLE-RADIUS=100;X-TITLE=Nine Pin Cider:geo:0,0
END:VEVENT
BEGIN:VTIMEZONE
TZID:America/New_York
X-LIC-LOCATION:America/New_York
BEGIN:DAYLIGHT
DTSTART:20240310T030000
TZOFFSETFROM:-0500
TZOFFSETTO:-0400
TZNAME:EDT
END:DAYLIGHT
END:VTIMEZONE
END:VCALENDAR