BEGIN:VCALENDAR
VERSION:2.0
PRODID:-//wp-events-plugin.com//7.2.3.1//EN
TZID:America/New_York
X-WR-TIMEZONE:America/New_York
BEGIN:VEVENT
UID:609@ninepincider.com
DTSTART;TZID=America/New_York:20240524T180000
DTEND;TZID=America/New_York:20240524T200000
DTSTAMP:20240523T133730Z
URL:https://www.ninepincider.com/events/craft-night-candle-pour-event/
SUMMARY:Craft Night: Candle Pour Event
DESCRIPTION:SOLD OUT\n\nWe’ve partnered with Thoughtful Gardner to offer 
 a memorable night of candle pouring and cider sipping. The workshop is an 
 immersive\, hands-on crafting experience at Nine Pin in Albany\, led by Je
 ssica from Thoughtful Gardner.\n\nChoose from a selection of 4 oz jars and
  lids and create a custom scent from a library of fragrance oils. Then\, p
 our your own 100% soy wax candle and personalize it with special labels. A
 nd while the candle cools\, enjoy a tasty 12 oz pour of our cider — incl
 uded with each ticket!\n\nThe class lasts 2 hours and is appropriate for a
 ll skill levels\, but participants must be 21 years old or older.
ATTACH;FMTTYPE=image/jpeg:https://www.ninepincider.com/wp-content/uploads/
 2024/03/craft-night.jpg
LOCATION:\, \, United States
X-APPLE-STRUCTURED-LOCATION;VALUE=URI;X-ADDRESS=\, United States;X-APPLE-RA
 DIUS=100;X-TITLE=:geo:0,0
END:VEVENT
BEGIN:VTIMEZONE
TZID:America/New_York
X-LIC-LOCATION:America/New_York
BEGIN:DAYLIGHT
DTSTART:20240310T030000
TZOFFSETFROM:-0500
TZOFFSETTO:-0400
TZNAME:EDT
END:DAYLIGHT
END:VTIMEZONE
END:VCALENDAR