BEGIN:VCALENDAR
VERSION:2.0
PRODID:-//wp-events-plugin.com//7.2.3.1//EN
TZID:America/New_York
X-WR-TIMEZONE:America/New_York
BEGIN:VEVENT
UID:1092@ninepincider.com
DTSTART;TZID=America/New_York:20260520T190000
DTEND;TZID=America/New_York:20260520T210000
DTSTAMP:20260416T213305Z
URL:https://www.ninepincider.com/events/clean-comedy-open-mic-night/
SUMMARY:Comedy Night - Open Mic
DESCRIPTION:Cloud City Comedy is bringing the laughs with a clean comedy op
 en mic night. Whether you’re stepping up to the mic or just here for the
  show\, expect a welcoming night of smart\, all-ages comedy. Comics can si
 gn up in advance at cloudcitycomedy@gmail.com to lock in a spot (list capp
 ed at 15)\, with a cash prize on the line for the top performer. Free to a
 ttend\, all ages welcome.
ATTACH;FMTTYPE=image/jpeg:https://www.ninepincider.com/wp-content/uploads/
 2026/03/ComedyNight_1920x1005.jpg
LOCATION:Nine Pin Cider\, 929 Broadway\, Albany\, NY\, 12207\, United State
 s
X-APPLE-STRUCTURED-LOCATION;VALUE=URI;X-ADDRESS=929 Broadway\, Albany\, NY\
 , 12207\, United States;X-APPLE-RADIUS=100;X-TITLE=Nine Pin Cider:geo:0,0
END:VEVENT
BEGIN:VTIMEZONE
TZID:America/New_York
X-LIC-LOCATION:America/New_York
BEGIN:DAYLIGHT
DTSTART:20260308T030000
TZOFFSETFROM:-0500
TZOFFSETTO:-0400
TZNAME:EDT
END:DAYLIGHT
END:VTIMEZONE
END:VCALENDAR